Workbook
Name Text41: Wahl!#REF!
Name Text43: Wahl!#REF!
Name Text51: Wahl!#REF!
Name tm_text: Wahl!#REF!

Sheet Formular
A9: Formular:
A10: Gesuch für einen finanziellen Beitrag für ein Summer oder Winter School Programm an der Universität Freiburg
A11: Gesuche, die nach Ablauf der Frist eingereicht werden oder unvollständig sind, entweder in Bezug auf den Inhalt des Formulars oder der beizufügenden Dokumente, werden nicht bearbeitet.
A12: Bitte vor dem Ausfüllen des Formulars das Reglement (https://www3.unifr.ch/apps/legal/de/document/1409456) sorgfältig durchlesen.
A13: Wir erinnern Sie daran, dass gemäss des Reglementes Folgendes gilt: - Der maximal gewährte Beitrag für ein Projekt beträgt CHF 12'000 und darf unter keinen Umständen die Hälfte des Maximalbudgets übertreffen. Die Honorarkosten von internen und externen Referentinnen und Referenten dürfen nicht in die Berechnung des Maximalbudgets einfliessen. (Art. 9). - Die Unterstützung deckt (Art. 9): § die Reisekosten, die Unterkunftskosten und Unterhaltskosten für externe Referentinnen und Referenten gemäss den an der Universität Freiburg geltenden Prinzipien. § einen Beitrag an die Unterhaltskosten der Studierenden. § auf Anfrage und in Ausnahmefällen andere Kosten. - Die Unterstützung deckt keine (Art. 9): § Honorarkosten von internen und externen Referentinnen und Referenten.
B16: Fristen
B17: Die Gesuche können zwei Mal pro Jahr eingereicht werden:
B18: - bis am 1. Oktober für ein zwischen Juni und September des folgenden Jahres stattfindendes Programm.
B19: - bis am 1. Mai für ein in den Monaten Januar und Februar des folgenden Jahres stattfindendes Programm.
A22: 1. | B22: Titel des Programmes
A26: ¨ | B26: Summer School (in den Monaten Juni bis September)
A27: ¨ | B27: Winter School (in den Monaten Januar und Februar)
A30: 2. | B30: Kontaktangaben der GesuchstellerInnen
A32: 2.1 | B32: GesuchstellerIn 1
B34: Anrede
B35: Name
B36: Vorname
B37: Fakultät
B38: Departement
B39: Funktion
B40: Adresse
B41: Telefon
B42: E-Mail
A44: 2.2 | B44: GesuchstellerIn 2
B46: Anrede
B47: Name
B48: Vorname
B49: Fakultät
B50: Departement
B51: Funktion
B52: Adresse
B53: Telefon
B54: E-Mail
A57: 3. | B57: Programmbeschreibung
A59: 3.1 | B59: Kurze Programmbeschreibung
B63: ü Eine ausführliche Beschreibung (2 bis 5 Seiten) im Anhang anfügen. Die
B64: Bedingungen für die Zulässigkeit finden sich im Reglement.
B66: ü Ein detaillierter Stundenplan im Anhang anfügen.
A69: 3.2 | B69: Zustimmung des oder der Departemente/s
B71: Das betroffene Departement/die betroffenen Departemente muss/müssen dem Gesuch zustimmen, wie auch den eventuell vergebenen ECTS-Kreditpunkten (1 Kreditpunkt entspricht 25 bis 30 Arbeitsstunden).
B73: ü Eine Bestätigung des Departementes oder der Departemente im Anhang beifügen.
B75: Anzahl zu vergebende ECTS-Kreditpunkte:
A78: 3.3 | B78: Dauer, Datum, Ort
B80: Die Summer und Winter Schools dauern zwischen mindestens einer Woche und höchstens drei Wochen. Sie finden normalerweise in der unterrichtsfreien Zeit statt, entweder im Januar und Februar oder in den Monaten Juni bis September.
B82: Dauer:
B86: Daten:
B90: Ort:
A95: 3.4 | B95: Zielpublikum
B97: Kurze Beschreibung des anvisierten Zielpublikums sowie der angestrebten Anzahl Teilnehmenden:
B101: Welche Massnahmen werden zur Bewerbung des Zielpublikums angewandt?
A106: 3.5 | B106: Sprachen
B108: In welcher Sprache bzw. welchen Sprachen wird das Programm durchgeführt:
A110: ¨ | B110: Französisch
A111: ¨ | B111: Deutsch
A112: ¨ | B112: Englisch
A113: ¨ | B113: Andere :
A116: 3.6 | B116: Bemerkungen
A121: 3.6 | B121: Referentinnen und Referenten
B123: Die Gesuchstellerin oder der Gesuchsteller muss zwingend innerhalb des Programmes unterrichten. Die anderen Referentinnen und Referenten können von innerhalb oder ausserhalb der Universität Freiburg stammen.
B125: ü Eine kurze Biografie der Referentinnen und Referenten im Anhang anfügen.
A127: I. | B127: Kontaktangaben der Referentinnen und Referenten des Programmes
B129: Anrede
B130: Name
B131: Vorname
B132: Universität
B133: Fakultät
B134: Departement
B135: Funktion
B136: Adresse
B137: Telefon
B138: E-Mail
A140: II. | B140: Kontaktangaben der Referentinnen und Referenten des Programmes
B142: Anrede
B143: Name
B144: Vorname
B145: Universität
B146: Fakultät
B147: Departement
B148: Funktion
B149: Adresse
B150: Telefon
B151: E-Mail
A153: III. | B153: Kontaktangaben der Referentinnen und Referenten des Programmes
B155: Anrede
B156: Name
B157: Vorname
B158: Universität
B159: Fakultät
B160: Departement
B161: Funktion
B162: Adresse
B163: Telefon
B164: E-Mail
A166: IV. | B166: Kontaktangaben der Referentinnen und Referenten des Programmes
B168: Anrede
B169: Name
B170: Vorname
B171: Universität
B172: Fakultät
B173: Departement
...

Sheet Leitfaden Budget
B9: Detailliertes Budget - Leitfaden für die Berechnung des finanziellen Beitrages
B11: KOSTEN (Formular 4.1) | E11: FINANZIERUNGSQUELLEN (Formular 4.2)
B13: Unterhalts- und Unterkunftskosten | C13: =+Formular!F205 -> 0 | E13: Andere Finanzierungsquellen | F13: =+Formular!F241 -> 0
B14: Reisekosten | C14: =+Formular!F215 -> 0 | E14: Kursgebühren | F14: =+Formular!F241 -> 0
B15: Andere Kosten | C15: =+Formular!F225 -> 0
B16: Honorare (Formular 4.3) | C16: =+Formular!F266 -> 0
E17: Total Finanzierungsquellen | F17: =SUM(F13:F16) -> 0
E19: + Angefragter Beitrag | F19: =+C28 -> 0
B20: Total Budget | C20: =SUM(C13:C19) -> 0 | E20: Finanzierung TOTAL | F20: =+F17+F19 -> 0
E22: Unterschied zwischen Finanzen und Kosten (sollte Null betragen) | F22: =+C20-F20 -> 0
B24: Berechnung Beitrag
B25: Total der Kosten ohne Honorare | C25: =+C20-C16 -> 0
B26: Maximal möglicher Beitrag | C26: =MIN(C25/2,12000) -> 0 | D26: oder maximal 12'000 CHF
B28: Angefragter Beitrag (dem Formular entnommen) | C28: =+Formular!F231 -> 0
A31: sh_07.07.2021

Sheet Wahl
A1: Choix
A2: ¨
A3: x
