Workbook
Name Text41: Choix!#REF!
Name Text43: Choix!#REF!
Name Text51: Choix!#REF!
Name tm_text: Choix!#REF!

Sheet Formulaire
A9: Formulaire:
A10: Demande de subside pour l’organisation d’un programme de Summer ou Winter School à l’Université de Fribourg
A11: Les demandes soumises hors délai ou incomplètes, soit en terme de contenu du formulaire ou de documents à annexer, ne seront pas traitées.
A12: Vous êtes ainsi priés de vous référer au règlement (https://www3.unifr.ch/apps/legal/fr/document/1409456) avant de compléter la demande.
A13: Nous vous rendons attentifs que selon le règlement : - Le montant maximal alloué pour un projet est de CHF 12'000 et qu'en aucun cas il ne peut excéder la moitié du budget global du projet. Précisons que le budget global utilisé pour ce cacul s'entend sans les honoraires des intervenants et intervenantes internes et externes (art. 9). - Ce que le subside peut couvrir (art. 9): § les frais de déplacement, de logement et de subsistance pour les interventants et intervenantes externes selon les principes en vigueur à l’Université de Fribourg. § une contribution aux frais de subsistance des étudiants et étudiantes. § à titre exceptionnel, d’autres frais sur demande motivée. - Ce que le subside ne couvre pas (art. 9): § les honoraires des intervenantes et intervenants internes ou externes.
B16: Délais
B17: Les demandes peuvent être déposées deux fois par an:
B18: - au 1er octobre pour un cours qui a lieu entre juin et septembre de l'année suivante.
B19: - au 1er mai pour un cours qui a lieu entre janvier et février de l'année suivante.
A22: 1. | B22: Titre du programme
A26: ¨ | B26: Summer School (cours entre les mois de juin et septembre)
A27: ¨ | B27: Winter School (cours entre les mois de janvier et février)
A30: 2. | B30: Coordonnées des auteur-e-s de la demande
A32: 2.1 | B32: Auteur-e 1
B34: Formule d'appel
B35: Nom
B36: Prénom
B37: Faculté
B38: Département
B39: Fonction
B40: Adresse
B41: Téléphone
B42: E-Mail
A44: 2.2 | B44: Auteur-e 2
B46: Formule d'appel
B47: Nom
B48: Prénom
B49: Faculté
B50: Département
B51: Fonction
B52: Adresse
B53: Téléphone
B54: E-Mail
A57: 3. | B57: Description du programme
A59: 3.1 | B59: Résumé
B63: ü Joindre en annexe la description complète (2 à 5 pages) et se référer au règlement
B64: pour les conditions de recevabilité.
B66: ü Joindre en annexe la grille horaire.
A69: 3.2 | B69: Approbation du ou des départements
B71: Le ou les départements concerné-s doivent approuver la demande ainsi que les crédits ECTS éventuellement attribués (1 crédit correspond à 25 à 30 heures de travail).
...

Sheet Canevas calcul subside
B9: Budget détaillé - Canevas pour calcul subside
B11: FRAIS (Formulaire 4.1) | E11: SOURCES DE FINANCEMENT (Formulaire 4.2)
B13: Frais de subsistance et d’hébergement | C13: =+Formulaire!F205 -> 0 | E13: Autres sources de financement | F13: =+Formulaire!F241 -> 0
B14: Frais de déplacement | C14: =+Formulaire!F215 -> 0 | E14: Frais d'inscription | F14: =+Formulaire!F248 -> 0
B15: Autres dépenses | C15: =+Formulaire!F225 -> 0
B16: Honoraires (Formulaire 4.3) | C16: =+Formulaire!F266 -> 0
E17: Total sources de financement | F17: =SUM(F13:F16) -> 0
E19: + Subside demandé | F19: =+C28 -> 0
B20: Total budget | C20: =SUM(C13:C19) -> 0 | E20: FINANCEMENT TOTAL | F20: =+F17+F19 -> 0
E22: Différence entre financement et frais (devrait être à zéro) | F22: =+C20-F20 -> 0
B24: CALCUL SUBSIDE
B25: Total des frais sans les honoraires | C25: =+C20-C16 -> 0
B26: Subside maximal possible | C26: =MIN(C25/2,12000) -> 0 | D26: ou maximum 12'000 CHF
B28: Subside demandé (repris du formulaire) | C28: =+Formulaire!F231 -> 0
A31: sh_07.07.2021

Sheet Choix
A1: Choix
A2: ¨
A3: x
